BEGIN:VCALENDAR
VERSION:2.0
PRODID:-//hacksw/handcal//NONSGML v1.0//EN
BEGIN:VEVENT
DTSTAMP:20170314T151000Z
DTSTART:20170314T151000Z
DTEND:20170314T151000Z
LOCATION:Vereinsheim VfL Pinneberg, Fahltskamp 53, Pinneberg, 25421, Deutschland
SUMMARY:Diskutieren Sie mit! #Anpacken. Für mehr Sicherheit im Kreis Pinneberg 
END:VEVENT
END:VCALENDAR
