BEGIN:VCALENDAR
VERSION:2.0
PRODID:-//hacksw/handcal//NONSGML v1.0//EN
BEGIN:VEVENT
DTSTAMP:20170413T170000Z
DTSTART:20170413T170000Z
DTEND:20170413T170000Z
LOCATION:Netzroller Tennis- und Squash-Club Halstenbek e.V., Am Bahndamm 88, Pinneberg, 25469, Deutschland
SUMMARY:Diskutieren Sie mit! #Anpacken. Für mehr Sicherheit im Kreis Pinneberg 
END:VEVENT
END:VCALENDAR
