BEGIN:VCALENDAR
VERSION:2.0
PRODID:-//hacksw/handcal//NONSGML v1.0//EN
BEGIN:VEVENT
DTSTAMP:20170320T190000Z
DTSTART:20170320T190000Z
DTEND:20170320T190000Z
LOCATION:VfL Pinneberg, Fahltskamp 53, Pinneberg, 25421 , Deutschland
SUMMARY:Wohnen in Pinneberg: Bezahlbarer Wohnraum oder Einzelhaus-
END:VEVENT
END:VCALENDAR
