BEGIN:VCALENDAR
VERSION:2.0
PRODID:-//hacksw/handcal//NONSGML v1.0//EN
BEGIN:VEVENT
DTSTAMP:20170404T170000Z
DTSTART:20170404T170000Z
DTEND:20170404T170000Z
LOCATION:LUSTiS 53,6, Industriestraße 10, Schenefeld, Deutschland
SUMMARY:Diskutieren Sie mit! #Anpacken. Für mehr Sicherheit im Kreis Pinneberg
END:VEVENT
END:VCALENDAR
