BEGIN:VCALENDAR
VERSION:2.0
PRODID:-//hacksw/handcal//NONSGML v1.0//EN
BEGIN:VEVENT
DTSTAMP:20170327T180000Z
DTSTART:20170327T180000Z
DTEND:20170327T180000Z
LOCATION:VFL Heim Pinneberg, Fahltskamp 53, Pinneberg, Deutschland
SUMMARY:Diskutieren Sie mit uns! #Anpacken mit Spitzenkandidat Daniel Günther
END:VEVENT
END:VCALENDAR
